BEGIN:VCALENDAR
VERSION:2.0
PRODID:-//Northern Saddle Club - ECPv6.15.19//NONSGML v1.0//EN
CALSCALE:GREGORIAN
METHOD:PUBLISH
X-WR-CALNAME:Northern Saddle Club
X-ORIGINAL-URL:https://northernsaddleclub.com
X-WR-CALDESC:Events for Northern Saddle Club
REFRESH-INTERVAL;VALUE=DURATION:PT1H
X-Robots-Tag:noindex
X-PUBLISHED-TTL:PT1H
BEGIN:VTIMEZONE
TZID:America/Vancouver
BEGIN:DAYLIGHT
TZOFFSETFROM:-0800
TZOFFSETTO:-0700
TZNAME:PDT
DTSTART:20250309T100000
END:DAYLIGHT
BEGIN:STANDARD
TZOFFSETFROM:-0700
TZOFFSETTO:-0800
TZNAME:PST
DTSTART:20251102T090000
END:STANDARD
BEGIN:DAYLIGHT
TZOFFSETFROM:-0800
TZOFFSETTO:-0700
TZNAME:PDT
DTSTART:20260308T100000
END:DAYLIGHT
BEGIN:STANDARD
TZOFFSETFROM:-0700
TZOFFSETTO:-0800
TZNAME:PST
DTSTART:20261101T090000
END:STANDARD
BEGIN:DAYLIGHT
TZOFFSETFROM:-0800
TZOFFSETTO:-0700
TZNAME:PDT
DTSTART:20270314T100000
END:DAYLIGHT
BEGIN:STANDARD
TZOFFSETFROM:-0700
TZOFFSETTO:-0800
TZNAME:PST
DTSTART:20271107T090000
END:STANDARD
END:VTIMEZONE
BEGIN:VEVENT
DTSTART;TZID=America/Vancouver:20260529T080000
DTEND;TZID=America/Vancouver:20260529T170000
DTSTAMP:20260421T014312
CREATED:20260207T171144Z
LAST-MODIFIED:20260325T194317Z
UID:3263-1780041600-1780074000@northernsaddleclub.com
SUMMARY:Western Clinic with Jodi Moore
DESCRIPTION:Western Clinic with Jodi Moore \n\nPleasure\nReining\nRanch Riding Contact Geri Brown to register.
URL:https://northernsaddleclub.com/event/western-clinic/
LOCATION:NSC Grounds\, 2701 Pacific Street\, Smithers\, BC\, Canada
CATEGORIES:Clinics
ATTACH;FMTTYPE=image/png:https://northernsaddleclub.com/wp-content/uploads/2020/02/NSC-Logo-125x125-1.png
END:VEVENT
BEGIN:VEVENT
DTSTART;TZID=America/Vancouver:20260531T080000
DTEND;TZID=America/Vancouver:20260531T170000
DTSTAMP:20260421T014312
CREATED:20260207T171300Z
LAST-MODIFIED:20260325T194211Z
UID:3265-1780214400-1780246800@northernsaddleclub.com
SUMMARY:Western Clinic with Jodi Moore
DESCRIPTION:Western Clinic with Jodi Moore \n\nPleasure\nReining\nRanch Riding  Contact Geri Brown to register.
URL:https://northernsaddleclub.com/event/western-clinic-2/
LOCATION:NSC Grounds\, 2701 Pacific Street\, Smithers\, BC\, Canada
CATEGORIES:Clinics
ATTACH;FMTTYPE=image/png:https://northernsaddleclub.com/wp-content/uploads/2020/02/NSC-Logo-125x125-1.png
END:VEVENT
BEGIN:VEVENT
DTSTART;TZID=America/Vancouver:20260605T150000
DTEND;TZID=America/Vancouver:20260607T170000
DTSTAMP:20260421T014312
CREATED:20260207T204847Z
LAST-MODIFIED:20260207T204847Z
UID:3305-1780671600-1780851600@northernsaddleclub.com
SUMMARY:NSC Spring Schooling Show
DESCRIPTION:NSC Spring Schooling Show – English \nFriday:  (afternoon) \n\nRide a Test – Dressage – non competitive (no ribbons)\n\nSaturday:  \n\nTicketed Jumper Schooling Rounds\nDressage Show – Judged\n\nSunday:  \n\nJumper  Show – Judged  – Classes from Ground Poles to 3’6”\n\nJudge(s):  TBD\nCourse Designer : TBD\nEnglish Show Manager: TBD\nEntry Secretary: TBD \n\nShow E-mail: nscshows@gmail.com\nShow Program: coming soon\nEntry Form: coming soon
URL:https://northernsaddleclub.com/event/nsc-spring-schooling-show/
LOCATION:BC
CATEGORIES:Shows
ATTACH;FMTTYPE=image/png:https://northernsaddleclub.com/wp-content/uploads/2020/02/NSC-Logo-125x125-1.png
END:VEVENT
BEGIN:VEVENT
DTSTART;TZID=America/Vancouver:20260711T080000
DTEND;TZID=America/Vancouver:20260712T170000
DTSTAMP:20260421T014312
CREATED:20260207T214401Z
LAST-MODIFIED:20260207T214401Z
UID:3322-1783756800-1783875600@northernsaddleclub.com
SUMMARY:NSC Jump Practice - Clear Rounds
DESCRIPTION:Saturday: Jump Practice Rounds over set course – not judged \n\n15 – 30 min sessions\n$25 / 30 min\nCoaches / Trainers can assist\n1-5 riders / 30 min\n\nSunday: Clear Rounds – TBD
URL:https://northernsaddleclub.com/event/nsc-jump-practice-clear-rounds-2/
LOCATION:NSC Grounds\, 2701 Pacific Street\, Smithers\, BC\, Canada
CATEGORIES:Shows
ATTACH;FMTTYPE=image/jpeg:https://northernsaddleclub.com/wp-content/uploads/2026/02/NSC-JumpDay.jpg
END:VEVENT
BEGIN:VEVENT
DTSTART;TZID=America/Vancouver:20260808T080000
DTEND;TZID=America/Vancouver:20260809T170000
DTSTAMP:20260421T014312
CREATED:20260207T230335Z
LAST-MODIFIED:20260209T165529Z
UID:3343-1786176000-1786294800@northernsaddleclub.com
SUMMARY:Pony Club Event
DESCRIPTION:Pony Club Event \n– Possible Show\n– Possible Testing \nMore Details to come 🙂
URL:https://northernsaddleclub.com/event/pony-club-event/
LOCATION:NSC Grounds\, 2701 Pacific Street\, Smithers\, BC\, Canada
CATEGORIES:Pony Club,Shows
ATTACH;FMTTYPE=image/png:https://northernsaddleclub.com/wp-content/uploads/2024/03/PonyClubLogo.png
END:VEVENT
BEGIN:VEVENT
DTSTART;TZID=America/Vancouver:20260827T080000
DTEND;TZID=America/Vancouver:20260830T170000
DTSTAMP:20260421T014312
CREATED:20260207T183812Z
LAST-MODIFIED:20260209T165458Z
UID:3280-1787817600-1788109200@northernsaddleclub.com
SUMMARY:Bulkley Valley Exhibition
DESCRIPTION:the Grounds will not be accessible for NSC member activities during the Exhibition \nFour Days of Fun \n\nWestern Riding Classes\nHorse Halter Classes\nJumping Classes\nDressage Classes\nDriving Classes\nGymkhana\nCostume Class
URL:https://northernsaddleclub.com/event/bulkley-valley-exhibition/
LOCATION:Bulkley Valley Agricultural & Industrial Association\, 2701 Pacific Avenue\, Smithers\, BC\, Canada
CATEGORIES:Shows
ATTACH;FMTTYPE=image/jpeg:https://northernsaddleclub.com/wp-content/uploads/2020/02/Thumb-BVX-Logo.jpg
END:VEVENT
BEGIN:VEVENT
DTSTART;TZID=America/Vancouver:20260918T080000
DTEND;TZID=America/Vancouver:20260920T170000
DTSTAMP:20260421T014312
CREATED:20260207T220430Z
LAST-MODIFIED:20260207T220430Z
UID:3326-1789718400-1789923600@northernsaddleclub.com
SUMMARY:NSC Fall Schooling Show
DESCRIPTION:NSC Fall Schooling Show – English \nFriday:  (afternoon) \n\nRide a Test – Dressage – non competitive (no ribbons)\n\nSaturday:  \n\nTicketed Jumper Schooling Rounds\nDressage Show – Judged\n\nSunday:  \n\nJumper  Show – Judged  – Classes from Ground Poles to 3’6”\n\nJudge(s):  TBD\nCourse Designer : TBD\nEnglish Show Manager: TBD\nEntry Secretary: TBD \n\nShow E-mail: nscshows@gmail.com\nShow Program: coming soon\nEntry Form: coming soon
URL:https://northernsaddleclub.com/event/nsc-fall-schooling-show/
LOCATION:NSC Grounds\, 2701 Pacific Street\, Smithers\, BC\, Canada
CATEGORIES:Shows
ATTACH;FMTTYPE=image/png:https://northernsaddleclub.com/wp-content/uploads/2020/02/NSC-Logo-125x125-1.png
END:VEVENT
BEGIN:VEVENT
DTSTART;TZID=America/Vancouver:20261010T080000
DTEND;TZID=America/Vancouver:20261011T170000
DTSTAMP:20260421T014312
CREATED:20260207T214556Z
LAST-MODIFIED:20260207T214556Z
UID:3324-1791619200-1791738000@northernsaddleclub.com
SUMMARY:NSC Jump Practice - Clear Rounds
DESCRIPTION:Saturday: Jump Practice Rounds over set course – not judged \n\n15 – 30 min sessions\n$25 / 30 min\nCoaches / Trainers can assist\n1-5 riders / 30 min\n\nSunday: Clear Rounds – TBD
URL:https://northernsaddleclub.com/event/nsc-jump-practice-clear-rounds-3/
LOCATION:NSC Grounds\, 2701 Pacific Street\, Smithers\, BC\, Canada
CATEGORIES:Shows
ATTACH;FMTTYPE=image/jpeg:https://northernsaddleclub.com/wp-content/uploads/2026/02/NSC-JumpDay.jpg
END:VEVENT
END:VCALENDAR